BEGIN:VCALENDAR
PRODID:-//eluceo/ical//2.0/EN
VERSION:2.0
CALSCALE:GREGORIAN
BEGIN:VEVENT
UID:Baywa r.e.
DTSTAMP:20260424T134711Z
SUMMARY:Formation technique novotegra : installation toiture résidentielle
  tuiles - Port-Saint-Louis-du-Rhône (13)
DESCRIPTION:novotegra vous propose une session de formation sur les systèm
 es de fixation pour toiture tuiles / résidentielles.\nFormation technique
  novotegra : nouveau format\, encore plus complet !  Programme de la forma
 tion :\n Présentation novotegra et généralités sur la marque / sociét
 é Une session théorique approfondie : présentation des systèmes de fix
 ation top-fix | spécificités techniques |système de montage 3. Un focus
  concret sur Solar-Planit\, notre outil de dimensionnement en ligne 4. Un 
 atelier pratique prolongé sur maquette : pour une meilleure compréhensio
 n des gestes techniques. \n\nUn déjeuner convivial est prévu\, l’occas
 ion d’échanger en toute convivialité et de rencontrer notre équipe !\
 n\nQuand ? Le 9 juin\, de 8h30 à 15h30 Où ?&nbsp\;A l'entrepôt BayWa r.
 e. Solar Systems de Port-Saint-Louis-du-Rhône\nChaussures de sécurité o
 bligatoires.
DTSTART:20260609T063000Z
DTEND:20260609T133000Z
LOCATION:BayWa r.e. Solar Systems SAS | Port Saint Louis du Rhône (13)
END:VEVENT
BEGIN:VTIMEZONE
TZID:UTC
END:VTIMEZONE
END:VCALENDAR
